BEGIN:VCALENDAR
VERSION:2.0
PRODID:-//Canterbury Farms Nursery &amp; Garden Center - ECPv6.15.20//NONSGML v1.0//EN
CALSCALE:GREGORIAN
METHOD:PUBLISH
X-ORIGINAL-URL:https://canterburyfarmsnursery.com
X-WR-CALDESC:Events for Canterbury Farms Nursery &amp; Garden Center
REFRESH-INTERVAL;VALUE=DURATION:PT1H
X-Robots-Tag:noindex
X-PUBLISHED-TTL:PT1H
BEGIN:VTIMEZONE
TZID:America/New_York
BEGIN:DAYLIGHT
TZOFFSETFROM:-0500
TZOFFSETTO:-0400
TZNAME:EDT
DTSTART:20250309T070000
END:DAYLIGHT
BEGIN:STANDARD
TZOFFSETFROM:-0400
TZOFFSETTO:-0500
TZNAME:EST
DTSTART:20251102T060000
END:STANDARD
BEGIN:DAYLIGHT
TZOFFSETFROM:-0500
TZOFFSETTO:-0400
TZNAME:EDT
DTSTART:20260308T070000
END:DAYLIGHT
BEGIN:STANDARD
TZOFFSETFROM:-0400
TZOFFSETTO:-0500
TZNAME:EST
DTSTART:20261101T060000
END:STANDARD
BEGIN:DAYLIGHT
TZOFFSETFROM:-0500
TZOFFSETTO:-0400
TZNAME:EDT
DTSTART:20270314T070000
END:DAYLIGHT
BEGIN:STANDARD
TZOFFSETFROM:-0400
TZOFFSETTO:-0500
TZNAME:EST
DTSTART:20271107T060000
END:STANDARD
END:VTIMEZONE
BEGIN:VEVENT
DTSTART;TZID=America/New_York:20261121T100000
DTEND;TZID=America/New_York:20261121T230000
DTSTAMP:20260419T115052
CREATED:20260314T175608Z
LAST-MODIFIED:20260414T175713Z
UID:3595-1795255200-1795302000@canterburyfarmsnursery.com
SUMMARY:How to Deal with Cold Sensitive Plants
DESCRIPTION:
URL:https://canterburyfarmsnursery.com/event/how-to-deal-with-cold-sensitive-plants/
LOCATION:Canterbury Farms Nursery & Garden Center\, 14543 Hays Rd.\,\, Hudson\, FL\, 34669\, United States
CATEGORIES:Florida Friendly Landscaping Series
END:VEVENT
END:VCALENDAR