BEGIN:VCALENDAR
VERSION:2.0
PRODID:-//Canterbury Farms Nursery &amp; Garden Center - ECPv6.15.20//NONSGML v1.0//EN
CALSCALE:GREGORIAN
METHOD:PUBLISH
X-WR-CALNAME:Canterbury Farms Nursery &amp; Garden Center
X-ORIGINAL-URL:https://canterburyfarmsnursery.com
X-WR-CALDESC:Events for Canterbury Farms Nursery &amp; Garden Center
REFRESH-INTERVAL;VALUE=DURATION:PT1H
X-Robots-Tag:noindex
X-PUBLISHED-TTL:PT1H
BEGIN:VTIMEZONE
TZID:America/New_York
BEGIN:DAYLIGHT
TZOFFSETFROM:-0500
TZOFFSETTO:-0400
TZNAME:EDT
DTSTART:20250309T070000
END:DAYLIGHT
BEGIN:STANDARD
TZOFFSETFROM:-0400
TZOFFSETTO:-0500
TZNAME:EST
DTSTART:20251102T060000
END:STANDARD
BEGIN:DAYLIGHT
TZOFFSETFROM:-0500
TZOFFSETTO:-0400
TZNAME:EDT
DTSTART:20260308T070000
END:DAYLIGHT
BEGIN:STANDARD
TZOFFSETFROM:-0400
TZOFFSETTO:-0500
TZNAME:EST
DTSTART:20261101T060000
END:STANDARD
BEGIN:DAYLIGHT
TZOFFSETFROM:-0500
TZOFFSETTO:-0400
TZNAME:EDT
DTSTART:20270314T070000
END:DAYLIGHT
BEGIN:STANDARD
TZOFFSETFROM:-0400
TZOFFSETTO:-0500
TZNAME:EST
DTSTART:20271107T060000
END:STANDARD
END:VTIMEZONE
BEGIN:VEVENT
DTSTART;TZID=America/New_York:20260424T090000
DTEND;TZID=America/New_York:20260424T140000
DTSTAMP:20260424T012250
CREATED:20260314T155809Z
LAST-MODIFIED:20260414T162507Z
UID:3532-1777021200-1777039200@canterburyfarmsnursery.com
SUMMARY:Tempestuous Roots Art & Farms
DESCRIPTION:www.tempestuousrootsmarket.com \nHandcrafted brews\, herbal products\, and more!
URL:https://canterburyfarmsnursery.com/event/tempestuous-roots-art-farms/
LOCATION:FL
CATEGORIES:Vendor Showcase
ORGANIZER;CN="Canterbury Farms Nursery & Garden Center":MAILTO:info@canterburyfarmsnursery.com
END:VEVENT
END:VCALENDAR